BEGIN:VCALENDAR
VERSION:2.0
PRODID:-//wp-events-plugin.com//7.2.3.1//EN
BEGIN:VEVENT
UID:342@nb4u.co.uk
DTSTART:20250517T140000Z
DTEND:20250517T163000Z
DTSTAMP:20250410T090430Z
URL:https://nb4u.co.uk/ua/events/nb4u-birthday-party/
SUMMARY:NB4U Birthday Party
DESCRIPTION:Join us in celebrating NB4U’s birthday! Enjoy a fun-filled da
 y with board games\, hot dogs\, ice cream\, and great company. Let’s com
 e together to celebrate community\, connection\, and everything we’ve ac
 hieved so far! 💛💙
ATTACH;FMTTYPE=image/jpeg:https://nb4u.co.uk/wp-content/uploads/2025/04/1-
 e1744275855547.png
LOCATION:https://maps.app.goo.gl/1gRUhTAxKvDSbtFv7
END:VEVENT
END:VCALENDAR