BEGIN:VCALENDAR
VERSION:2.0
PRODID:-//wp-events-plugin.com//7.2.3.1//EN
BEGIN:VEVENT
UID:402@nb4u.co.uk
DTSTART:20251124T103000Z
DTEND:20251124T120000Z
DTSTAMP:20251117T182028Z
URL:https://nb4u.co.uk/ua/events/homes-for-ukraine-event/
SUMMARY:Homes For Ukraine Workshop
DESCRIPTION:Workshop on 24 November 2025 to help Ukrainians learn housing r
 ights\, find support\, and prepare for independent living.
ATTACH;FMTTYPE=image/jpeg:https://nb4u.co.uk/wp-content/uploads/2025/11/b4
 cbfcb0-1368-40e1-823c-7e4d4c6bccb7-e1763403290222.png
LOCATION:https://maps.app.goo.gl/pWWBN5GdEH7URMnA7
END:VEVENT
END:VCALENDAR