BEGIN:VCALENDAR
VERSION:2.0
PRODID:-//wp-events-plugin.com//7.2.3.1//EN
BEGIN:VEVENT
UID:401@nb4u.co.uk
DTSTART:20251213T130000Z
DTEND:20251213T160000Z
DTSTAMP:20251113T091201Z
URL:https://nb4u.co.uk/ua/events/christmas-party-dec-2025/
SUMMARY:Christmas Party
DESCRIPTION:Join us for a joyful celebration with Santa’s visit\, a festi
 ve meal\, Ukrainian National Anthem\, and dancing by the Children’s Mond
 ay Dance Club. Book with Beverley: 07790 223851.
ATTACH;FMTTYPE=image/jpeg:https://nb4u.co.uk/wp-content/uploads/2025/11/c5
 5e1eca-c724-4472-8f0e-9aab71fc7e0e-1.png
LOCATION:https://maps.app.goo.gl/4aeUkWMN6hVr16YZ8
END:VEVENT
END:VCALENDAR