BEGIN:VCALENDAR
VERSION:2.0
PRODID:-//wp-events-plugin.com//7.2.3.1//EN
BEGIN:VEVENT
UID:399@nb4u.co.uk
DTSTART:20251018T140000Z
DTEND:20251018T163000Z
DTSTAMP:20251002T150948Z
URL:https://nb4u.co.uk/events/autumn-social-event-2025/
SUMMARY:Autumn Social Event
DESCRIPTION:Join us for our Autumn Social on October 18th\, 2–4pm at Sutt
 on Coldfield Baptist Church. Enjoy Ploughman’s\, fresh rolls\, meats &am
 p\; cheeses\, plus fun activities for teens. Book by 15th October with Bev
 erley: 07790 223851.
ATTACH;FMTTYPE=image/jpeg:https://nb4u.co.uk/wp-content/uploads/2025/10/Oc
 tober_Social-1-e1759417192825.png
LOCATION:https://maps.app.goo.gl/Uvm8PAtbJVWABQt58
END:VEVENT
END:VCALENDAR